BEGIN:VCALENDAR
VERSION:2.0
PRODID:-//InvisionCommunity Events 4.7.24//EN
METHOD:PUBLISH
CALSCALE:GREGORIAN
REFRESH-INTERVAL:PT15M
X-PUBLISHED-TTL:PT15M
X-WR-CALNAME:Community Calendar
NAME:Community Calendar
BEGIN:VTIMEZONE
TZID:Europe/London
TZURL:http://tzurl.org/zoneinfo/Europe/London
X-LIC-LOCATION:Europe/London
BEGIN:DAYLIGHT
TZOFFSETFROM:+0000
TZOFFSETTO:+0100
TZNAME:BST
DTSTART:20220327T020000Z
RRULE:FREQ=YEARLY;BYMONTH=3;BYDAY=-1SU
END:DAYLIGHT
BEGIN:STANDARD
TZOFFSETFROM:+0100
TZOFFSETTO:+0000
TZNAME:GMT
DTSTART:20221030T020000Z
RRULE:FREQ=YEARLY;BYMONTH=10;BYDAY=-1SU
END:STANDARD
END:VTIMEZONE
BEGIN:VEVENT
SUMMARY:Orlin's Maintenance Day June 16-19-22
DTSTAMP:20220418T221432Z
SEQUENCE:0
UID:446-1-aec7c72db2501f2c73f567eb802b25b7@www.venturerider.org
ORGANIZER;CN="OrlinEngh":don@venturerider.org
DESCRIPTION:\n	Hello\,  Here is our Address E9364 State Hwy 56 Viroqua 
	Wisconsin 54665 \n\n\n\n	Here are the motels in Viroqua.\n\n\n\n	Motels\n
	\n\n\n	AmericInn by Wyndham Viroqua\n\n\n\n	1325 North Main St\, Viroqua\,
	 Wisconsin 54665\n\n\n\n	608-6373100\n\n\n\n	Hickory Hill S5539 US-14\, Vi
	roqua\, WI 54665\n\n\n\n	(608) 637-3104\n\n\n\n	hickoryhillmotel@gmail.com
	\n\n\n\n	Midway Motel\n\n\n\n	midwaymotelviroqua.net\n\n\n\n	850 N Main St
	\, Viroqua\, WI 54665 · ~8.9 mi\n\n\n\n	(608) 637-2929\n\n\n\n	Safe ride
	 to those coming and looking forward to a great time with everyone.\n\n
DTSTART:20220616T050000Z
DTEND:20220619T170000Z
ATTENDEE;CN="OrlinEngh";CUTYPE=INDIVIDUAL;PARTSTAT=ACCEPTED:
	don@venturerider.org
ATTENDEE;CN="vzuden";CUTYPE=INDIVIDUAL;PARTSTAT=ACCEPTED:don
	@venturerider.org
END:VEVENT
END:VCALENDAR
