BEGIN:VCALENDAR
VERSION:2.0
PRODID:-//InvisionCommunity Events 4.7.24//EN
METHOD:PUBLISH
CALSCALE:GREGORIAN
REFRESH-INTERVAL:PT15M
X-PUBLISHED-TTL:PT15M
X-WR-CALNAME:Community Calendar
NAME:Community Calendar
BEGIN:VTIMEZONE
TZID:Europe/London
TZURL:http://tzurl.org/zoneinfo/Europe/London
X-LIC-LOCATION:Europe/London
BEGIN:DAYLIGHT
TZOFFSETFROM:+0000
TZOFFSETTO:+0100
TZNAME:BST
DTSTART:20210328T020000Z
RRULE:FREQ=YEARLY;BYMONTH=3;BYDAY=-1SU
END:DAYLIGHT
BEGIN:STANDARD
TZOFFSETFROM:+0100
TZOFFSETTO:+0000
TZNAME:GMT
DTSTART:20211031T020000Z
RRULE:FREQ=YEARLY;BYMONTH=10;BYDAY=-1SU
END:STANDARD
END:VTIMEZONE
BEGIN:VEVENT
SUMMARY:Blessing of the Bikes Downtown Baldwin 895 Michigan Avenue\,
	  Baldwin\, MI 49304
DTSTAMP:20210412T043050Z
SEQUENCE:0
UID:442-1-aec7c72db2501f2c73f567eb802b25b7@www.venturerider.org
ORGANIZER;CN="DajaVenture":don@venturerider.org
DESCRIPTION:\n	This is the 49th year of the Original “Blessing Of The
	 Bikes”. This event started with 8 riders and 4 motorcycles in 1972 who 
	gathered at the St. Ann’s Catholic Church. From those humble beginnings 
	it has grown into one of the largest events in the area. (Estimated 10\,00
	0 in the 3 days!It is attended by bikers and non-bikers a like from aroun
	d the country and is open to everyone. Families come to walk around downto
	wn Baldwin and look at the bikes and bikers and to enjoy the vendors and g
	reat food. This event spreads out from Baldwin to surrounding areas and pr
	ovides a lot fun for everyone.\n\n\n\n	 \n\n
DTSTART;VALUE=DATE:20210514
DTEND;VALUE=DATE:20210517
END:VEVENT
END:VCALENDAR
