BEGIN:VCALENDAR
VERSION:2.0
PRODID:-//InvisionCommunity Events 4.7.24//EN
METHOD:PUBLISH
CALSCALE:GREGORIAN
REFRESH-INTERVAL:PT15M
X-PUBLISHED-TTL:PT15M
X-WR-CALNAME:Community Calendar
NAME:Community Calendar
BEGIN:VTIMEZONE
TZID:Europe/London
TZURL:http://tzurl.org/zoneinfo/Europe/London
X-LIC-LOCATION:Europe/London
BEGIN:DAYLIGHT
TZOFFSETFROM:+0000
TZOFFSETTO:+0100
TZNAME:BST
DTSTART:20210328T020000Z
RRULE:FREQ=YEARLY;BYMONTH=3;BYDAY=-1SU
END:DAYLIGHT
BEGIN:STANDARD
TZOFFSETFROM:+0100
TZOFFSETTO:+0000
TZNAME:GMT
DTSTART:20211031T020000Z
RRULE:FREQ=YEARLY;BYMONTH=10;BYDAY=-1SU
END:STANDARD
END:VTIMEZONE
BEGIN:VEVENT
SUMMARY:Wisconsin get together
DTSTAMP:20210307T123017Z
SEQUENCE:0
UID:441-1-aec7c72db2501f2c73f567eb802b25b7@www.venturerider.org
ORGANIZER;CN="OrlinEngh":don@venturerider.org
DESCRIPTION:\n	Lets hope that this covid stuff will be in the rear view 
	mirror. It will be good to see those of you that can make it.\n\n\n\n	Here
	 is the motels in Viroqua\n\n\n\n	Hickory Hill Motel LLC\n\n\n\n	hickoryhi
	llmotel.com\n\n\n\n	S5539 US Highway 14\, Viroqua\, WI 54665 · ~4.8 mi\n
	\n\n\n	(608) 637-3104\n\n\n\n	 \n\n\n\n	\n		Vernon Inn &amp\; Suites\n	\n
	\n	\n		www.vernoninnandsuites.com\n	\n\n	\n		1325 N Main St\, Viroqua\, WI
	 54665 · ~6.2 mi\n	\n\n	\n		(608) 637-3100\n	\n\n	\n		There are a few ni
	ce campgrounds close by also if you want to camp with electric and water h
	ookups. We have plenty of camping room here we have a small campground dow
	n by the creek there will be clean portapotis so you dont have to go in th
	e corn or behind a tree. And there is plenty of room above the road by the
	 house.\n	\n\n	\n		If you want we have had a few that have liked to come o
	n Thursday and stay till Monday you are welcome to do so. \n	\n\n	\n		Her
	e is the address for our place E9364 State Hwy 56 Viroqua Wisconsin.\n	\n\
	n\n\n	 \n\n
DTSTART:20210723T050000Z
DTEND:20210725T172500Z
ATTENDEE;CN="OrlinEngh";CUTYPE=INDIVIDUAL;PARTSTAT=ACCEPTED:
	don@venturerider.org
ATTENDEE;CN="Drews";CUTYPE=INDIVIDUAL;PARTSTAT=ACCEPTED:don@
	venturerider.org
ATTENDEE;CN="frodotoo";CUTYPE=INDIVIDUAL;PARTSTAT=ACCEPTED:d
	on@venturerider.org
END:VEVENT
END:VCALENDAR
